

BEGIN:VCALENDAR
VERSION:2.0
PRODID:-//hacksw/handcal//NONSGML v1.0//EN
CALSCALE:GREGORIAN
BEGIN:VEVENT
DTEND:20190821T220000
UID:603569e57c5ef
DTSTAMP:20210224T074733
LOCATION:Mount View Primary School Shepherd Road Glen Waverley 3150 VIC
DESCRIPTION:Opening Night
Our show is now in its 35th year. We showcase work from Australian artists while raising funds for our school. We include painting\, drawing\, mixed media\, jewellery\, sculpture and textiles.
URL;VALUE=URI:http://mountviewartshow.com.au/event/38751
SUMMARY:Mount View Art Show - Opening Night
DTSTART:20190821T190000
END:VEVENT
END:VCALENDAR

